BEGIN:VCALENDAR
VERSION:2.0
METHOD:PUBLISH
BEGIN:VEVENT
DTSTART:20251015
LOCATION:
TRANSP: OPAQUE
SEQUENCE:0
UID:
DTSTAMP:20260419T155008Z
SUMMARY:Concours : Bourse Pierre-Saul pour la recherche sur le cancer du pancréas
DESCRIPTION:La bourse Pierre-Saul a été créée par Samir Saul, professeur d’histoire à l’Université de Montréal, en l’honneur et à la mémoire de son père. Monsieur Pierre Saul est décédé en 2018 à la suite d’une résistance exemplaire contre le cancer du pancréas. Son dynamisme, son sens des responsabilités et sa bonté ont marqué tous ceux qui l’ont connu. Cette bourse est un témoignage de la reconnaissance qui lui est due. Historien et professeur de carrière à l’Université de Montréal, Samir Saul veut, par cette contribution, encourager l’enseignement et la recherche sur le cancer du pancréas. Montant : 2 000 $ à 5 000 $ Date butoir : 15 octobre 2025 à 12h Découvrez les critères et la procédure dans l'appel à candidatures ;
PRIORITY:1
CLASS:PUBLIC
BEGIN:VALARM
TRIGGER:-PT10080M
ACTION:DISPLAY
DESCRIPTION:Reminder
END:VALARM
END:VEVENT
END:VCALENDAR
